BEGIN:VCALENDAR
VERSION:2.0
PRODID:-//Prairie Hog Country - ECPv6.15.20//NONSGML v1.0//EN
CALSCALE:GREGORIAN
METHOD:PUBLISH
X-ORIGINAL-URL:https://www.prairiehogcountry.com
X-WR-CALDESC:Events for Prairie Hog Country
REFRESH-INTERVAL;VALUE=DURATION:PT1H
X-Robots-Tag:noindex
X-PUBLISHED-TTL:PT1H
BEGIN:VTIMEZONE
TZID:UTC
BEGIN:STANDARD
TZOFFSETFROM:+0000
TZOFFSETTO:+0000
TZNAME:UTC
DTSTART:20250101T000000
END:STANDARD
END:VTIMEZONE
BEGIN:VEVENT
DTSTART;TZID=UTC:20260423T103000
DTEND;TZID=UTC:20260423T160000
DTSTAMP:20260423T170634
CREATED:20260128T202400Z
LAST-MODIFIED:20260128T202400Z
UID:6657-1776940200-1776960000@www.prairiehogcountry.com
SUMMARY:Prairie Swine Centre Spring Meetings Red Deer
DESCRIPTION:
URL:https://www.prairiehogcountry.com/event/prairie-swine-centre-spring-meetings-red-deer/
END:VEVENT
BEGIN:VEVENT
DTSTART;TZID=UTC:20260429T083000
DTEND;TZID=UTC:20260429T170000
DTSTAMP:20260423T170634
CREATED:20260128T202047Z
LAST-MODIFIED:20260128T202047Z
UID:6651-1777451400-1777482000@www.prairiehogcountry.com
SUMMARY:Montana Livestock Expo
DESCRIPTION:
URL:https://www.prairiehogcountry.com/event/montana-livestock-expo-4/
END:VEVENT
BEGIN:VEVENT
DTSTART;TZID=UTC:20260429T103000
DTEND;TZID=UTC:20260429T160000
DTSTAMP:20260423T170634
CREATED:20260128T202448Z
LAST-MODIFIED:20260128T202448Z
UID:6659-1777458600-1777478400@www.prairiehogcountry.com
SUMMARY:Prairie Swine Centre Spring Meetings Portage la Prairie
DESCRIPTION:
URL:https://www.prairiehogcountry.com/event/prairie-swine-centre-spring-meetings-portage-la-prairie/
END:VEVENT
END:VCALENDAR