BEGIN:VCALENDAR
VERSION:2.0
PRODID:-//Prairie Hog Country - ECPv6.15.20//NONSGML v1.0//EN
CALSCALE:GREGORIAN
METHOD:PUBLISH
X-WR-CALNAME:Prairie Hog Country
X-ORIGINAL-URL:https://www.prairiehogcountry.com
X-WR-CALDESC:Events for Prairie Hog Country
REFRESH-INTERVAL;VALUE=DURATION:PT1H
X-Robots-Tag:noindex
X-PUBLISHED-TTL:PT1H
BEGIN:VTIMEZONE
TZID:UTC
BEGIN:STANDARD
TZOFFSETFROM:+0000
TZOFFSETTO:+0000
TZNAME:UTC
DTSTART:20180101T000000
END:STANDARD
END:VTIMEZONE
BEGIN:VEVENT
DTSTART;TZID=UTC:20220512T083000
DTEND;TZID=UTC:20220512T170000
DTSTAMP:20260424T164541
CREATED:20210914T203719Z
LAST-MODIFIED:20220118T223050Z
UID:4035-1652344200-1652374800@www.prairiehogcountry.com
SUMMARY:Saskatchewan Livestock Expo\, Swift Current SK
DESCRIPTION:Swift Current\, SK
URL:https://www.prairiehogcountry.com/event/saskatchewan-livestock-expo/
END:VEVENT
BEGIN:VEVENT
DTSTART;VALUE=DATE:20220406
DTEND;VALUE=DATE:20220407
DTSTAMP:20260424T164541
CREATED:20220209T115550Z
LAST-MODIFIED:20220209T185431Z
UID:4295-1649203200-1649289599@www.prairiehogcountry.com
SUMMARY:Montana Livestock Expo\, Great Falls MT.
DESCRIPTION:
URL:https://www.prairiehogcountry.com/event/montana-livestock-expo-great-falls-mt/
END:VEVENT
BEGIN:VEVENT
DTSTART;TZID=UTC:20220315T080000
DTEND;TZID=UTC:20220317T170000
DTSTAMP:20260424T164541
CREATED:20220105T194451Z
LAST-MODIFIED:20220209T185630Z
UID:4187-1647331200-1647536400@www.prairiehogcountry.com
SUMMARY:Alberta Livestock Care Conference\, Olds AB  NOW VIRTUAL
DESCRIPTION:
URL:https://www.prairiehogcountry.com/event/alberta-livestock-care-conference-olds-ab/
END:VEVENT
BEGIN:VEVENT
DTSTART;VALUE=DATE:20220111
DTEND;VALUE=DATE:20220114
DTSTAMP:20260424T164541
CREATED:20210328T130607Z
LAST-MODIFIED:20210328T130607Z
UID:3790-1641859200-1642118399@www.prairiehogcountry.com
SUMMARY:Banff Pork Seminar
DESCRIPTION:Banff\, AB
URL:https://www.prairiehogcountry.com/event/banff-pork-seminar-3/
END:VEVENT
BEGIN:VEVENT
DTSTART;TZID=UTC:20211208T093000
DTEND;TZID=UTC:20211208T170000
DTSTAMP:20260424T164541
CREATED:20210328T130512Z
LAST-MODIFIED:20210729T170555Z
UID:3788-1638955800-1638982800@www.prairiehogcountry.com
SUMMARY:Brandon Hog & Livestock Expo CANCELLED
DESCRIPTION:Brandon\, MB
URL:https://www.prairiehogcountry.com/event/brandon-hog-livestock-expo-2/
END:VEVENT
BEGIN:VEVENT
DTSTART;VALUE=DATE:20211116
DTEND;VALUE=DATE:20211118
DTSTAMP:20260424T164541
CREATED:20210328T130356Z
LAST-MODIFIED:20210328T130356Z
UID:3786-1637020800-1637193599@www.prairiehogcountry.com
SUMMARY:SASK Pork Symposium
DESCRIPTION:Saskatoon November 16 & 17
URL:https://www.prairiehogcountry.com/event/sask-pork-symposium-2/
END:VEVENT
BEGIN:VEVENT
DTSTART;TZID=UTC:20211020T083000
DTEND;TZID=UTC:20211020T170000
DTSTAMP:20260424T164541
CREATED:20210328T130236Z
LAST-MODIFIED:20210914T203546Z
UID:3784-1634718600-1634749200@www.prairiehogcountry.com
SUMMARY:Red Deer Swine Technology Workshop- VIRTUAL
DESCRIPTION:Red Deer\, AB
URL:https://www.prairiehogcountry.com/event/red-deer-swine-technology-workshop-4/
END:VEVENT
BEGIN:VEVENT
DTSTART;VALUE=DATE:20211006
DTEND;VALUE=DATE:20211008
DTSTAMP:20260424T164541
CREATED:20210328T130143Z
LAST-MODIFIED:20210914T203514Z
UID:3782-1633478400-1633651199@www.prairiehogcountry.com
SUMMARY:Alberta Livestock Expo - CANCELLED
DESCRIPTION:Lethbridge October 6 & 7\, 2021
URL:https://www.prairiehogcountry.com/event/alberta-livestock-expo-3/
END:VEVENT
BEGIN:VEVENT
DTSTART;VALUE=DATE:20210609
DTEND;VALUE=DATE:20210611
DTSTAMP:20260424T164541
CREATED:20210328T125859Z
LAST-MODIFIED:20210328T130703Z
UID:3780-1623196800-1623369599@www.prairiehogcountry.com
SUMMARY:Alberta Pork Congress June 2021 - CANCELLED
DESCRIPTION:
URL:https://www.prairiehogcountry.com/event/alberta-pork-congress-june-2021-cancelled/
END:VEVENT
BEGIN:VEVENT
DTSTART;TZID=UTC:20210520T083000
DTEND;TZID=UTC:20210520T170000
DTSTAMP:20260424T164541
CREATED:20200914T182824Z
LAST-MODIFIED:20210328T125715Z
UID:3520-1621499400-1621530000@www.prairiehogcountry.com
SUMMARY:Cramer Livestock Expo - CANCELLED
DESCRIPTION:Swift Current\, SK
URL:https://www.prairiehogcountry.com/event/cramer-livestock-expo/
END:VEVENT
BEGIN:VEVENT
DTSTART;TZID=UTC:20210325T130000
DTEND;TZID=UTC:20210325T140000
DTSTAMP:20260424T164541
CREATED:20210129T182401Z
LAST-MODIFIED:20210129T182502Z
UID:3690-1616677200-1616680800@www.prairiehogcountry.com
SUMMARY:Alberta Pork Congress AGM virtual
DESCRIPTION:Alberta Pork Congress Virtual AGM
URL:https://www.prairiehogcountry.com/event/alberta-pork-congress-agm/
END:VEVENT
BEGIN:VEVENT
DTSTART;VALUE=DATE:20210105
DTEND;VALUE=DATE:20210108
DTSTAMP:20260424T164541
CREATED:20200814T202712Z
LAST-MODIFIED:20200814T202712Z
UID:3495-1609804800-1610063999@www.prairiehogcountry.com
SUMMARY:Banff Pork Seminar | January 5 & 7 - virtual\, details to come
DESCRIPTION:January 5 & 7 – virtual\, details to come
URL:https://www.prairiehogcountry.com/event/banff-pork-seminar-january-5-7-virtual-details-to-come/
END:VEVENT
BEGIN:VEVENT
DTSTART;TZID=UTC:20201209T090000
DTEND;TZID=UTC:20201209T170000
DTSTAMP:20260424T164541
CREATED:20200114T165341Z
LAST-MODIFIED:20200914T182439Z
UID:3106-1607504400-1607533200@www.prairiehogcountry.com
SUMMARY:Prairie Livestock Expo- Cancelled
DESCRIPTION:Winnipeg\, MB
URL:https://www.prairiehogcountry.com/event/prairie-livestock-expo-2/
END:VEVENT
BEGIN:VEVENT
DTSTART;TZID=UTC:20201103T080000
DTEND;TZID=UTC:20201104T170000
DTSTAMP:20260424T164541
CREATED:20200114T165258Z
LAST-MODIFIED:20200814T202438Z
UID:3104-1604390400-1604509200@www.prairiehogcountry.com
SUMMARY:Saskatchewan Pork Symposium (Virtual\, Details to Come)
DESCRIPTION:Being held virtually\, details to come  Saskatoon\, SK
URL:https://www.prairiehogcountry.com/event/saskatchewan-pork-symposium-2/
END:VEVENT
BEGIN:VEVENT
DTSTART;TZID=UTC:20201007T120000
DTEND;TZID=UTC:20201008T170000
DTSTAMP:20260424T164541
CREATED:20200114T165127Z
LAST-MODIFIED:20200914T182512Z
UID:3100-1602072000-1602176400@www.prairiehogcountry.com
SUMMARY:Alberta Livestock Expo |CANCELLED
DESCRIPTION:October 7 – noon – 5 and October 8 10 – 4\nLethbridge\, AB
URL:https://www.prairiehogcountry.com/event/alberta-livestock-expo-2/
END:VEVENT
BEGIN:VEVENT
DTSTART;TZID=UTC:20200814T202230
DTEND;TZID=UTC:20200814T202230
DTSTAMP:20260424T164541
CREATED:20200114T165211Z
LAST-MODIFIED:20200814T202315Z
UID:3102-1597436550-1597436550@www.prairiehogcountry.com
SUMMARY:Red Deer Swine Technology Workshop - CANCELLED
DESCRIPTION:Cancelled
URL:https://www.prairiehogcountry.com/event/red-deer-swine-technology-workshop-3/
END:VEVENT
BEGIN:VEVENT
DTSTART;TZID=UTC:20200610T093000
DTEND;TZID=UTC:20200611T160000
DTSTAMP:20260424T164541
CREATED:20200114T165025Z
LAST-MODIFIED:20200423T171812Z
UID:3098-1591781400-1591891200@www.prairiehogcountry.com
SUMMARY:Alberta Pork Congress- Canceled
DESCRIPTION:Red Deer\, AB
URL:https://www.prairiehogcountry.com/event/alberta-pork-congress-3/
END:VEVENT
BEGIN:VEVENT
DTSTART;TZID=UTC:20200416T080000
DTEND;TZID=UTC:20200416T170000
DTSTAMP:20260424T164541
CREATED:20200114T164924Z
LAST-MODIFIED:20200114T164924Z
UID:3096-1587024000-1587056400@www.prairiehogcountry.com
SUMMARY:Montana Livestock Expo
DESCRIPTION:Great Falls\, MT
URL:https://www.prairiehogcountry.com/event/montana-livestock-expo/
END:VEVENT
BEGIN:VEVENT
DTSTART;TZID=UTC:20200325T080000
DTEND;TZID=UTC:20200325T170000
DTSTAMP:20260424T164541
CREATED:20200114T164845Z
LAST-MODIFIED:20200114T164845Z
UID:3094-1585123200-1585155600@www.prairiehogcountry.com
SUMMARY:Manitoba Pork Council AGM
DESCRIPTION:Winnipeg\, MB
URL:https://www.prairiehogcountry.com/event/manitoba-pork-council-agm-2/
END:VEVENT
BEGIN:VEVENT
DTSTART;TZID=UTC:20200318T080000
DTEND;TZID=UTC:20200319T170000
DTSTAMP:20260424T164541
CREATED:20200114T164745Z
LAST-MODIFIED:20200114T164745Z
UID:3092-1584518400-1584637200@www.prairiehogcountry.com
SUMMARY:Alberta Livestock Care Conference
DESCRIPTION:Olds AB
URL:https://www.prairiehogcountry.com/event/alberta-livestock-care-conference/
END:VEVENT
BEGIN:VEVENT
DTSTART;TZID=UTC:20200213T083000
DTEND;TZID=UTC:20200213T170000
DTSTAMP:20260424T164541
CREATED:20190313T211315Z
LAST-MODIFIED:20190313T211315Z
UID:2647-1581582600-1581613200@www.prairiehogcountry.com
SUMMARY:Cramer Ag Expo
DESCRIPTION:
URL:https://www.prairiehogcountry.com/event/cramer-ag-expo-3/
END:VEVENT
BEGIN:VEVENT
DTSTART;TZID=UTC:20200205T080000
DTEND;TZID=UTC:20200206T170000
DTSTAMP:20260424T164541
CREATED:20200114T164643Z
LAST-MODIFIED:20200114T164643Z
UID:3090-1580889600-1581008400@www.prairiehogcountry.com
SUMMARY:Manitoba Swine Seminar
DESCRIPTION:Victoria Inn\, Winnipeg MB
URL:https://www.prairiehogcountry.com/event/manitoba-swine-seminar-2/
END:VEVENT
BEGIN:VEVENT
DTSTART;TZID=UTC:20200107T160000
DTEND;TZID=UTC:20200109T170000
DTSTAMP:20260424T164541
CREATED:20190313T211233Z
LAST-MODIFIED:20190313T211233Z
UID:2645-1578412800-1578589200@www.prairiehogcountry.com
SUMMARY:Banff Pork Seminar
DESCRIPTION:
URL:https://www.prairiehogcountry.com/event/banff-pork-seminar-2/
END:VEVENT
BEGIN:VEVENT
DTSTART;TZID=UTC:20191211T093000
DTEND;TZID=UTC:20191211T170000
DTSTAMP:20260424T164541
CREATED:20190313T211144Z
LAST-MODIFIED:20190313T211144Z
UID:2643-1576056600-1576083600@www.prairiehogcountry.com
SUMMARY:Brandon Hog & Livestock Expo
DESCRIPTION:
URL:https://www.prairiehogcountry.com/event/brandon-hog-livestock-expo/
END:VEVENT
BEGIN:VEVENT
DTSTART;TZID=UTC:20191112T080000
DTEND;TZID=UTC:20191113T170000
DTSTAMP:20260424T164541
CREATED:20190313T211103Z
LAST-MODIFIED:20190313T211103Z
UID:2641-1573545600-1573664400@www.prairiehogcountry.com
SUMMARY:Sask Pork Symposium
DESCRIPTION:
URL:https://www.prairiehogcountry.com/event/sask-pork-symposium/
END:VEVENT
BEGIN:VEVENT
DTSTART;TZID=UTC:20191023T080000
DTEND;TZID=UTC:20191023T170000
DTSTAMP:20260424T164541
CREATED:20190313T211015Z
LAST-MODIFIED:20190313T211015Z
UID:2639-1571817600-1571850000@www.prairiehogcountry.com
SUMMARY:Red Deer Swine Technology Workshop
DESCRIPTION:
URL:https://www.prairiehogcountry.com/event/red-deer-swine-technology-workshop-2/
END:VEVENT
BEGIN:VEVENT
DTSTART;TZID=UTC:20191009T080000
DTEND;TZID=UTC:20191010T170000
DTSTAMP:20260424T164541
CREATED:20190313T210805Z
LAST-MODIFIED:20190313T210805Z
UID:2636-1570608000-1570726800@www.prairiehogcountry.com
SUMMARY:Alberta Livesstock Expo
DESCRIPTION:
URL:https://www.prairiehogcountry.com/event/alberta-livesstock-expo/
END:VEVENT
BEGIN:VEVENT
DTSTART;TZID=UTC:20190619T080000
DTEND;TZID=UTC:20190620T170000
DTSTAMP:20260424T164541
CREATED:20190205T015727Z
LAST-MODIFIED:20190205T015727Z
UID:2608-1560931200-1561050000@www.prairiehogcountry.com
SUMMARY:Ontario Pork  Congress
DESCRIPTION:
URL:https://www.prairiehogcountry.com/event/ontario-pork-congress-2/
END:VEVENT
BEGIN:VEVENT
DTSTART;TZID=UTC:20190615T000000
DTEND;TZID=UTC:20190616T000000
DTSTAMP:20260424T164541
CREATED:20190205T015610Z
LAST-MODIFIED:20190205T015610Z
UID:2606-1560556800-1560643200@www.prairiehogcountry.com
SUMMARY:Porkapalooza
DESCRIPTION:
URL:https://www.prairiehogcountry.com/event/porkapalooza-2/
END:VEVENT
BEGIN:VEVENT
DTSTART;TZID=UTC:20190612T090000
DTEND;TZID=UTC:20190613T160000
DTSTAMP:20260424T164541
CREATED:20190205T015426Z
LAST-MODIFIED:20190313T211353Z
UID:2604-1560330000-1560441600@www.prairiehogcountry.com
SUMMARY:Alberta Pork  Congress
DESCRIPTION:Red Deer\, Westerner Park
URL:https://www.prairiehogcountry.com/event/alberta-pork-congress-2/
END:VEVENT
END:VCALENDAR