BEGIN:VCALENDAR
VERSION:2.0
PRODID:-//Prairie Hog Country - ECPv6.15.20//NONSGML v1.0//EN
CALSCALE:GREGORIAN
METHOD:PUBLISH
X-ORIGINAL-URL:https://www.prairiehogcountry.com
X-WR-CALDESC:Events for Prairie Hog Country
REFRESH-INTERVAL;VALUE=DURATION:PT1H
X-Robots-Tag:noindex
X-PUBLISHED-TTL:PT1H
BEGIN:VTIMEZONE
TZID:UTC
BEGIN:STANDARD
TZOFFSETFROM:+0000
TZOFFSETTO:+0000
TZNAME:UTC
DTSTART:20200101T000000
END:STANDARD
END:VTIMEZONE
BEGIN:VEVENT
DTSTART;TZID=UTC:20241211T090000
DTEND;TZID=UTC:20241211T170000
DTSTAMP:20260423T231546
CREATED:20231017T174949Z
LAST-MODIFIED:20231017T174949Z
UID:5222-1733907600-1733936400@www.prairiehogcountry.com
SUMMARY:Prairie Livestock Expo
DESCRIPTION:
URL:https://www.prairiehogcountry.com/event/prairie-livestock-expo-3/
END:VEVENT
BEGIN:VEVENT
DTSTART;TZID=UTC:20241121T090000
DTEND;TZID=UTC:20241121T170000
DTSTAMP:20260423T231546
CREATED:20240604T181131Z
LAST-MODIFIED:20241008T152208Z
UID:5609-1732179600-1732208400@www.prairiehogcountry.com
SUMMARY:Alberta Pork AGM
DESCRIPTION:
URL:https://www.prairiehogcountry.com/event/alberta-pork-agm-2/
END:VEVENT
BEGIN:VEVENT
DTSTART;TZID=UTC:20241105T080000
DTEND;TZID=UTC:20241106T170000
DTSTAMP:20260423T231546
CREATED:20240604T181039Z
LAST-MODIFIED:20240604T181039Z
UID:5607-1730793600-1730912400@www.prairiehogcountry.com
SUMMARY:Saskatchewan Pork Industry Symposium
DESCRIPTION:
URL:https://www.prairiehogcountry.com/event/saskatchewan-pork-industry-symposium/
END:VEVENT
BEGIN:VEVENT
DTSTART;TZID=UTC:20241016T120000
DTEND;TZID=UTC:20241017T160000
DTSTAMP:20260423T231546
CREATED:20231017T175036Z
LAST-MODIFIED:20231017T175036Z
UID:5224-1729080000-1729180800@www.prairiehogcountry.com
SUMMARY:Alberta Livestock Expo
DESCRIPTION:
URL:https://www.prairiehogcountry.com/event/alberta-livestock-expo-6/
END:VEVENT
BEGIN:VEVENT
DTSTART;TZID=UTC:20241009T080000
DTEND;TZID=UTC:20241009T170000
DTSTAMP:20260423T231546
CREATED:20240604T180948Z
LAST-MODIFIED:20240604T180948Z
UID:5605-1728460800-1728493200@www.prairiehogcountry.com
SUMMARY:Red Deer Swine Technology Workshop
DESCRIPTION:
URL:https://www.prairiehogcountry.com/event/red-deer-swine-technology-workshop-7/
END:VEVENT
BEGIN:VEVENT
DTSTART;TZID=UTC:20241009T073000
DTEND;TZID=UTC:20241009T083000
DTSTAMP:20260423T231546
CREATED:20240925T154909Z
LAST-MODIFIED:20240925T154909Z
UID:5745-1728459000-1728462600@www.prairiehogcountry.com
SUMMARY:Alberta Pork Congress AGM
DESCRIPTION:
URL:https://www.prairiehogcountry.com/event/alberta-pork-congress-agm-2/
END:VEVENT
BEGIN:VEVENT
DTSTART;TZID=UTC:20240612T090000
DTEND;TZID=UTC:20240613T140000
DTSTAMP:20260423T231546
CREATED:20231017T174903Z
LAST-MODIFIED:20231017T174903Z
UID:5220-1718182800-1718287200@www.prairiehogcountry.com
SUMMARY:Alberta Pork Congress
DESCRIPTION:
URL:https://www.prairiehogcountry.com/event/alberta-pork-congress-5/
END:VEVENT
BEGIN:VEVENT
DTSTART;TZID=UTC:20240222T083000
DTEND;TZID=UTC:20240222T170000
DTSTAMP:20260423T231546
CREATED:20230109T145843Z
LAST-MODIFIED:20230109T145900Z
UID:4730-1708590600-1708621200@www.prairiehogcountry.com
SUMMARY:Saskatchewan Livestock Expo 2024
DESCRIPTION:
URL:https://www.prairiehogcountry.com/event/saskatchewan-livestock-expo-2024/
END:VEVENT
BEGIN:VEVENT
DTSTART;TZID=UTC:20240207T080000
DTEND;TZID=UTC:20240208T170000
DTSTAMP:20260423T231546
CREATED:20231017T174757Z
LAST-MODIFIED:20231017T174812Z
UID:5218-1707292800-1707411600@www.prairiehogcountry.com
SUMMARY:Manitoba Swine Seminar
DESCRIPTION:
URL:https://www.prairiehogcountry.com/event/manitoba-swine-seminar-5/
END:VEVENT
BEGIN:VEVENT
DTSTART;TZID=UTC:20240109T160000
DTEND;TZID=UTC:20240111T170000
DTSTAMP:20260423T231546
CREATED:20230214T210638Z
LAST-MODIFIED:20230214T210638Z
UID:4813-1704816000-1704992400@www.prairiehogcountry.com
SUMMARY:Banff Pork Seminar
DESCRIPTION:
URL:https://www.prairiehogcountry.com/event/banff-pork-seminar-5/
END:VEVENT
BEGIN:VEVENT
DTSTART;TZID=UTC:20231213T090000
DTEND;TZID=UTC:20231213T170000
DTSTAMP:20260423T231546
CREATED:20230126T223432Z
LAST-MODIFIED:20230126T223432Z
UID:4803-1702458000-1702486800@www.prairiehogcountry.com
SUMMARY:Brandon Hog & Livestock Expo
DESCRIPTION:
URL:https://www.prairiehogcountry.com/event/brandon-hog-livestock-expo-3/
END:VEVENT
BEGIN:VEVENT
DTSTART;TZID=UTC:20231123T083000
DTEND;TZID=UTC:20231123T163000
DTSTAMP:20260423T231546
CREATED:20230727T001117Z
LAST-MODIFIED:20230727T001117Z
UID:5048-1700728200-1700757000@www.prairiehogcountry.com
SUMMARY:Alberta Pork AGM
DESCRIPTION:
URL:https://www.prairiehogcountry.com/event/alberta-pork-agm/
END:VEVENT
BEGIN:VEVENT
DTSTART;TZID=UTC:20231107T083000
DTEND;TZID=UTC:20231108T163000
DTSTAMP:20260423T231546
CREATED:20221130T162056Z
LAST-MODIFIED:20221130T162056Z
UID:4727-1699345800-1699461000@www.prairiehogcountry.com
SUMMARY:Sask Pork Symposium
DESCRIPTION:
URL:https://www.prairiehogcountry.com/event/sask-pork-symposium-3/
END:VEVENT
BEGIN:VEVENT
DTSTART;TZID=UTC:20231018T080000
DTEND;TZID=UTC:20231018T160000
DTSTAMP:20260423T231546
CREATED:20230109T150056Z
LAST-MODIFIED:20230109T150056Z
UID:4734-1697616000-1697644800@www.prairiehogcountry.com
SUMMARY:Red Deer Swine Technology Workshop
DESCRIPTION:
URL:https://www.prairiehogcountry.com/event/red-deer-swine-technology-workshop-6/
END:VEVENT
BEGIN:VEVENT
DTSTART;TZID=UTC:20231011T120000
DTEND;TZID=UTC:20231012T170000
DTSTAMP:20260423T231546
CREATED:20230222T212709Z
LAST-MODIFIED:20230315T003551Z
UID:4815-1697025600-1697130000@www.prairiehogcountry.com
SUMMARY:Alberta Livestock Expo
DESCRIPTION:
URL:https://www.prairiehogcountry.com/event/alberta-livestock-expo-5/
END:VEVENT
BEGIN:VEVENT
DTSTART;TZID=UTC:20230614T090000
DTEND;TZID=UTC:20230615T163000
DTSTAMP:20260423T231546
CREATED:20221130T161610Z
LAST-MODIFIED:20221130T161610Z
UID:4719-1686733200-1686846600@www.prairiehogcountry.com
SUMMARY:Alberta Pork Congress
DESCRIPTION:
URL:https://www.prairiehogcountry.com/event/alberta-pork-congress-4/
END:VEVENT
BEGIN:VEVENT
DTSTART;TZID=UTC:20230420T083000
DTEND;TZID=UTC:20230420T163000
DTSTAMP:20260423T231546
CREATED:20221130T161805Z
LAST-MODIFIED:20221130T161805Z
UID:4723-1681979400-1682008200@www.prairiehogcountry.com
SUMMARY:Montana Livestock Expo
DESCRIPTION:
URL:https://www.prairiehogcountry.com/event/montana-livestock-expo-2/
END:VEVENT
BEGIN:VEVENT
DTSTART;TZID=UTC:20230209T083000
DTEND;TZID=UTC:20230209T170000
DTSTAMP:20260423T231546
CREATED:20220723T164626Z
LAST-MODIFIED:20220723T164626Z
UID:4493-1675931400-1675962000@www.prairiehogcountry.com
SUMMARY:Saskatchewan Livestock Expo
DESCRIPTION:
URL:https://www.prairiehogcountry.com/event/saskatchewan-livestock-expo-2/
END:VEVENT
BEGIN:VEVENT
DTSTART;TZID=UTC:20230208T090000
DTEND;TZID=UTC:20230209T163000
DTSTAMP:20260423T231546
CREATED:20221130T161724Z
LAST-MODIFIED:20221130T161724Z
UID:4721-1675846800-1675960200@www.prairiehogcountry.com
SUMMARY:Manitoba Swine Seminar
DESCRIPTION:
URL:https://www.prairiehogcountry.com/event/manitoba-swine-seminar-3/
END:VEVENT
BEGIN:VEVENT
DTSTART;TZID=UTC:20230110T080000
DTEND;TZID=UTC:20230112T170000
DTSTAMP:20260423T231546
CREATED:20220723T164538Z
LAST-MODIFIED:20220723T164538Z
UID:4491-1673337600-1673542800@www.prairiehogcountry.com
SUMMARY:Banff Pork Seminar
DESCRIPTION:
URL:https://www.prairiehogcountry.com/event/banff-pork-seminar-4/
END:VEVENT
BEGIN:VEVENT
DTSTART;TZID=UTC:20221214T090000
DTEND;TZID=UTC:20221214T170000
DTSTAMP:20260423T231546
CREATED:20220105T194337Z
LAST-MODIFIED:20220723T164436Z
UID:4185-1671008400-1671037200@www.prairiehogcountry.com
SUMMARY:Prairie Livestock Expo\, Winnipeg MB
DESCRIPTION:
URL:https://www.prairiehogcountry.com/event/prairie-livestock-expo-winnipeg-mb/
END:VEVENT
BEGIN:VEVENT
DTSTART;TZID=UTC:20221115T080000
DTEND;TZID=UTC:20221116T170000
DTSTAMP:20260423T231546
CREATED:20220105T194253Z
LAST-MODIFIED:20220105T194253Z
UID:4183-1668499200-1668618000@www.prairiehogcountry.com
SUMMARY:SASK Pork Symposium Saskatoon\, SK
DESCRIPTION:
URL:https://www.prairiehogcountry.com/event/sask-pork-symposium-saskatoon-sk/
END:VEVENT
BEGIN:VEVENT
DTSTART;TZID=UTC:20221019T083000
DTEND;TZID=UTC:20221019T160000
DTSTAMP:20260423T231546
CREATED:20220401T235745Z
LAST-MODIFIED:20220401T235745Z
UID:4308-1666168200-1666195200@www.prairiehogcountry.com
SUMMARY:Red Deer Swine Technology Workshop
DESCRIPTION:
URL:https://www.prairiehogcountry.com/event/red-deer-swine-technology-workshop-5/
END:VEVENT
BEGIN:VEVENT
DTSTART;TZID=UTC:20221005T093000
DTEND;TZID=UTC:20221006T170000
DTSTAMP:20260423T231546
CREATED:20220118T223017Z
LAST-MODIFIED:20220401T235653Z
UID:4192-1664962200-1665075600@www.prairiehogcountry.com
SUMMARY:Alberta Livestock Expo\, Lethbridge AB
DESCRIPTION:
URL:https://www.prairiehogcountry.com/event/alberta-livestock-expo-4/
END:VEVENT
BEGIN:VEVENT
DTSTART;TZID=UTC:20220615T090000
DTEND;TZID=UTC:20220616T170000
DTSTAMP:20260423T231546
CREATED:20220105T194147Z
LAST-MODIFIED:20220116T180707Z
UID:4181-1655283600-1655398800@www.prairiehogcountry.com
SUMMARY:Alberta Pork Congress  - Red Deer\, AB
DESCRIPTION:
URL:https://www.prairiehogcountry.com/event/alberta-pork-congress-red-deer-ab/
END:VEVENT
BEGIN:VEVENT
DTSTART;TZID=UTC:20220512T083000
DTEND;TZID=UTC:20220512T170000
DTSTAMP:20260423T231546
CREATED:20210914T203719Z
LAST-MODIFIED:20220118T223050Z
UID:4035-1652344200-1652374800@www.prairiehogcountry.com
SUMMARY:Saskatchewan Livestock Expo\, Swift Current SK
DESCRIPTION:Swift Current\, SK
URL:https://www.prairiehogcountry.com/event/saskatchewan-livestock-expo/
END:VEVENT
BEGIN:VEVENT
DTSTART;VALUE=DATE:20220406
DTEND;VALUE=DATE:20220407
DTSTAMP:20260423T231546
CREATED:20220209T115550Z
LAST-MODIFIED:20220209T185431Z
UID:4295-1649203200-1649289599@www.prairiehogcountry.com
SUMMARY:Montana Livestock Expo\, Great Falls MT.
DESCRIPTION:
URL:https://www.prairiehogcountry.com/event/montana-livestock-expo-great-falls-mt/
END:VEVENT
BEGIN:VEVENT
DTSTART;TZID=UTC:20220315T080000
DTEND;TZID=UTC:20220317T170000
DTSTAMP:20260423T231546
CREATED:20220105T194451Z
LAST-MODIFIED:20220209T185630Z
UID:4187-1647331200-1647536400@www.prairiehogcountry.com
SUMMARY:Alberta Livestock Care Conference\, Olds AB  NOW VIRTUAL
DESCRIPTION:
URL:https://www.prairiehogcountry.com/event/alberta-livestock-care-conference-olds-ab/
END:VEVENT
BEGIN:VEVENT
DTSTART;VALUE=DATE:20220111
DTEND;VALUE=DATE:20220114
DTSTAMP:20260423T231546
CREATED:20210328T130607Z
LAST-MODIFIED:20210328T130607Z
UID:3790-1641859200-1642118399@www.prairiehogcountry.com
SUMMARY:Banff Pork Seminar
DESCRIPTION:Banff\, AB
URL:https://www.prairiehogcountry.com/event/banff-pork-seminar-3/
END:VEVENT
BEGIN:VEVENT
DTSTART;TZID=UTC:20211208T093000
DTEND;TZID=UTC:20211208T170000
DTSTAMP:20260423T231546
CREATED:20210328T130512Z
LAST-MODIFIED:20210729T170555Z
UID:3788-1638955800-1638982800@www.prairiehogcountry.com
SUMMARY:Brandon Hog & Livestock Expo CANCELLED
DESCRIPTION:Brandon\, MB
URL:https://www.prairiehogcountry.com/event/brandon-hog-livestock-expo-2/
END:VEVENT
END:VCALENDAR