BEGIN:VCALENDAR
VERSION:2.0
PRODID:-//Prairie Hog Country - ECPv6.15.20//NONSGML v1.0//EN
CALSCALE:GREGORIAN
METHOD:PUBLISH
X-WR-CALNAME:Prairie Hog Country
X-ORIGINAL-URL:https://www.prairiehogcountry.com
X-WR-CALDESC:Events for Prairie Hog Country
REFRESH-INTERVAL;VALUE=DURATION:PT1H
X-Robots-Tag:noindex
X-PUBLISHED-TTL:PT1H
BEGIN:VTIMEZONE
TZID:UTC
BEGIN:STANDARD
TZOFFSETFROM:+0000
TZOFFSETTO:+0000
TZNAME:UTC
DTSTART:19690101T000000
END:STANDARD
END:VTIMEZONE
BEGIN:VEVENT
DTSTART;TZID=UTC:20181107T080000
DTEND;TZID=UTC:20181108T170000
DTSTAMP:20260424T152742
CREATED:20181030T222323Z
LAST-MODIFIED:20181030T222323Z
UID:2395-1541577600-1541696400@www.prairiehogcountry.com
SUMMARY:MB Pork Fall producer meetings
DESCRIPTION:Manitoba pork producers and industry partners are encouraged to attend the November fall producer meetings. Stewart Cressman\, farmer and Chair of Swine Innovation Pork\, will deliver the keynote address. Manitoba Pork Chair George Matheson will present an update on the current state of the industry\, with staff presentations on program activities and initiatives \n  \n\nWednesday\, November 7: for producers east of the Red River; Niverville Heritage Centre; lunch at 12:00 p.m.\, meeting begins at 1:00 p.m.\nThursday\, November 8: for producers west of the Red River and both Hutterite Districts; Canad Inn\, Portage la Prairie; meeting begins at 1:30 p.m.\, supper at 5:00 p.m.
URL:https://www.prairiehogcountry.com/event/mb-pork-fall-producer-meetings/
END:VEVENT
BEGIN:VEVENT
DTSTART;TZID=UTC:20181024T083000
DTEND;TZID=UTC:20181024T170000
DTSTAMP:20260424T152742
CREATED:20180206T014524Z
LAST-MODIFIED:20180206T014524Z
UID:2051-1540369800-1540400400@www.prairiehogcountry.com
SUMMARY:Red Deer Swine Technology Workshop
DESCRIPTION:Westerner Park\, Red Deer AB
URL:https://www.prairiehogcountry.com/event/red-deer-swine-technology-workshop/
END:VEVENT
BEGIN:VEVENT
DTSTART;TZID=UTC:20181010T080000
DTEND;TZID=UTC:20181011T170000
DTSTAMP:20260424T152742
CREATED:20180206T014648Z
LAST-MODIFIED:20180206T014648Z
UID:2055-1539158400-1539277200@www.prairiehogcountry.com
SUMMARY:Alberta Livestock Expo
DESCRIPTION:Exhibition Park\, Lethbridge AB
URL:https://www.prairiehogcountry.com/event/alberta-livestock-expo/
END:VEVENT
BEGIN:VEVENT
DTSTART;TZID=UTC:20180620T090000
DTEND;TZID=UTC:20180621T170000
DTSTAMP:20260424T152742
CREATED:20180206T014244Z
LAST-MODIFIED:20180206T014244Z
UID:2047-1529485200-1529600400@www.prairiehogcountry.com
SUMMARY:Ontario Pork  Congress
DESCRIPTION:Stratford\, ON
URL:https://www.prairiehogcountry.com/event/ontario-pork-congress/
END:VEVENT
BEGIN:VEVENT
DTSTART;TZID=UTC:20180616T090000
DTEND;TZID=UTC:20180617T170000
DTSTAMP:20260424T152742
CREATED:20180206T014200Z
LAST-MODIFIED:20180206T014200Z
UID:2045-1529139600-1529254800@www.prairiehogcountry.com
SUMMARY:Porkapalooza
DESCRIPTION:Northlands Park\, Edmonton AB
URL:https://www.prairiehogcountry.com/event/porkapalooza/
END:VEVENT
BEGIN:VEVENT
DTSTART;TZID=UTC:20180613T080000
DTEND;TZID=UTC:20180614T170000
DTSTAMP:20260424T152742
CREATED:20180206T014107Z
LAST-MODIFIED:20180206T014107Z
UID:2043-1528876800-1528995600@www.prairiehogcountry.com
SUMMARY:Alberta Pork  Congress
DESCRIPTION:Westerner Park\, Red Deer AB
URL:https://www.prairiehogcountry.com/event/alberta-pork-congress/
END:VEVENT
BEGIN:VEVENT
DTSTART;TZID=UTC:20180606T080000
DTEND;TZID=UTC:20180608T170000
DTSTAMP:20260424T152742
CREATED:20180206T014027Z
LAST-MODIFIED:20180206T014027Z
UID:2041-1528272000-1528477200@www.prairiehogcountry.com
SUMMARY:World Pork Expo
DESCRIPTION:Des Moines IA
URL:https://www.prairiehogcountry.com/event/world-pork-expo/
END:VEVENT
BEGIN:VEVENT
DTSTART;TZID=UTC:20180405T090000
DTEND;TZID=UTC:20180405T170000
DTSTAMP:20260424T152742
CREATED:20180206T013936Z
LAST-MODIFIED:20180206T013936Z
UID:2039-1522918800-1522947600@www.prairiehogcountry.com
SUMMARY:Manitoba Pork  Council AGM
DESCRIPTION:The Fairmont Winnipeg\, MB
URL:https://www.prairiehogcountry.com/event/manitoba-pork-council-agm/
END:VEVENT
BEGIN:VEVENT
DTSTART;TZID=UTC:20180328T080000
DTEND;TZID=UTC:20180329T170000
DTSTAMP:20260424T152742
CREATED:20180206T013848Z
LAST-MODIFIED:20180206T013848Z
UID:2037-1522224000-1522342800@www.prairiehogcountry.com
SUMMARY:London Swine  Conference
DESCRIPTION:Double Tree\, London ON
URL:https://www.prairiehogcountry.com/event/london%e2%80%88swine-conference/
END:VEVENT
BEGIN:VEVENT
DTSTART;TZID=UTC:20180314T090000
DTEND;TZID=UTC:20180315T170000
DTSTAMP:20260424T152742
CREATED:20180206T013752Z
LAST-MODIFIED:20180206T013752Z
UID:2035-1521018000-1521133200@www.prairiehogcountry.com
SUMMARY:2018 Livestock  Care Conference
DESCRIPTION:Olds\, Alberta
URL:https://www.prairiehogcountry.com/event/2018-livestock-care-conference/
END:VEVENT
BEGIN:VEVENT
DTSTART;TZID=UTC:20180222T083000
DTEND;TZID=UTC:20180222T170000
DTSTAMP:20260424T152742
CREATED:20180206T013547Z
LAST-MODIFIED:20180206T013655Z
UID:2032-1519288200-1519318800@www.prairiehogcountry.com
SUMMARY:Cramer Ag Expo
DESCRIPTION:Kinetic Park\, Swift Current SK
URL:https://www.prairiehogcountry.com/event/cramer-ag-expo/
END:VEVENT
BEGIN:VEVENT
DTSTART;TZID=UTC:20180207T090000
DTEND;TZID=UTC:20180208T170000
DTSTAMP:20260424T152742
CREATED:20180206T014853Z
LAST-MODIFIED:20180206T014853Z
UID:2057-1517994000-1518109200@www.prairiehogcountry.com
SUMMARY:Manitoba Swine Seminar
DESCRIPTION:Victoria Inn\, Winnipeg MB
URL:https://www.prairiehogcountry.com/event/manitoba-swine-seminar/
END:VEVENT
BEGIN:VEVENT
DTSTART;TZID=UTC:20180203T080000
DTEND;TZID=UTC:20180203T170000
DTSTAMP:20260424T152742
CREATED:20180203T040703Z
LAST-MODIFIED:20180203T042504Z
UID:2016-1517644800-1517677200@www.prairiehogcountry.com
SUMMARY:Sample Event one
DESCRIPTION:Times and things
URL:https://www.prairiehogcountry.com/event/sample-event-one/
LOCATION:Place\, Shaw Conference\, Edmonton\, Canada\, T6M 0P4\, Canada
END:VEVENT
BEGIN:VEVENT
DTSTART;TZID=UTC:20260424T152742
DTEND;TZID=UTC:20230209T170000
DTSTAMP:20260424T152742
CREATED:20230109T145954Z
LAST-MODIFIED:20230109T145954Z
UID:4732-0-1675962000@www.prairiehogcountry.com
SUMMARY:Manitoba Swine Seminar
DESCRIPTION:
URL:https://www.prairiehogcountry.com/event/manitoba-swine-seminar-4/
END:VEVENT
END:VCALENDAR