BEGIN:VCALENDAR
VERSION:2.0
PRODID:-//Prairie Hog Country - ECPv6.15.20//NONSGML v1.0//EN
CALSCALE:GREGORIAN
METHOD:PUBLISH
X-WR-CALNAME:Prairie Hog Country
X-ORIGINAL-URL:https://www.prairiehogcountry.com
X-WR-CALDESC:Events for Prairie Hog Country
REFRESH-INTERVAL;VALUE=DURATION:PT1H
X-Robots-Tag:noindex
X-PUBLISHED-TTL:PT1H
BEGIN:VTIMEZONE
TZID:UTC
BEGIN:STANDARD
TZOFFSETFROM:+0000
TZOFFSETTO:+0000
TZNAME:UTC
DTSTART:20250101T000000
END:STANDARD
END:VTIMEZONE
BEGIN:VEVENT
DTSTART;TZID=UTC:20260318T150000
DTEND;TZID=UTC:20260318T190000
DTSTAMP:20260423T200904
CREATED:20260128T201904Z
LAST-MODIFIED:20260128T201904Z
UID:6645-1773846000-1773860400@www.prairiehogcountry.com
SUMMARY:Alberta Pork Spring Meeting Drumheller
DESCRIPTION:
URL:https://www.prairiehogcountry.com/event/alberta-pork-spring-meeting-drumheller/
END:VEVENT
END:VCALENDAR