BEGIN:VCALENDAR
VERSION:2.0
PRODID:-//Prairie Hog Country - ECPv6.15.20//NONSGML v1.0//EN
CALSCALE:GREGORIAN
METHOD:PUBLISH
X-WR-CALNAME:Prairie Hog Country
X-ORIGINAL-URL:https://www.prairiehogcountry.com
X-WR-CALDESC:Events for Prairie Hog Country
REFRESH-INTERVAL;VALUE=DURATION:PT1H
X-Robots-Tag:noindex
X-PUBLISHED-TTL:PT1H
BEGIN:VTIMEZONE
TZID:UTC
BEGIN:STANDARD
TZOFFSETFROM:+0000
TZOFFSETTO:+0000
TZNAME:UTC
DTSTART:20250101T000000
END:STANDARD
END:VTIMEZONE
BEGIN:VEVENT
DTSTART;TZID=UTC:20260317T110000
DTEND;TZID=UTC:20260317T150000
DTSTAMP:20260423T200731
CREATED:20260128T201213Z
LAST-MODIFIED:20260128T201213Z
UID:6637-1773745200-1773759600@www.prairiehogcountry.com
SUMMARY:h@ms District Meeting Swift Current
DESCRIPTION:
URL:https://www.prairiehogcountry.com/event/hms-district-meeting-swift-current/
END:VEVENT
BEGIN:VEVENT
DTSTART;TZID=UTC:20260317T150000
DTEND;TZID=UTC:20260317T190000
DTSTAMP:20260423T200731
CREATED:20260128T201827Z
LAST-MODIFIED:20260128T201827Z
UID:6643-1773759600-1773774000@www.prairiehogcountry.com
SUMMARY:Alberta Pork Spring Meeting Red Deer
DESCRIPTION:
URL:https://www.prairiehogcountry.com/event/alberta-pork-spring-meeting-red-deer/
END:VEVENT
END:VCALENDAR