BEGIN:VCALENDAR
VERSION:2.0
PRODID:-//Prairie Hog Country - ECPv6.15.20//NONSGML v1.0//EN
CALSCALE:GREGORIAN
METHOD:PUBLISH
X-ORIGINAL-URL:https://www.prairiehogcountry.com
X-WR-CALDESC:Events for Prairie Hog Country
REFRESH-INTERVAL;VALUE=DURATION:PT1H
X-Robots-Tag:noindex
X-PUBLISHED-TTL:PT1H
BEGIN:VTIMEZONE
TZID:UTC
BEGIN:STANDARD
TZOFFSETFROM:+0000
TZOFFSETTO:+0000
TZNAME:UTC
DTSTART:20250101T000000
END:STANDARD
END:VTIMEZONE
BEGIN:VEVENT
DTSTART;TZID=UTC:20260316T150000
DTEND;TZID=UTC:20260316T190000
DTSTAMP:20260423T201009
CREATED:20260128T201800Z
LAST-MODIFIED:20260128T201800Z
UID:6641-1773673200-1773687600@www.prairiehogcountry.com
SUMMARY:Alberta Pork Spring Meeting Grande Prairie
DESCRIPTION:
URL:https://www.prairiehogcountry.com/event/alberta-pork-spring-meeting-grande-prairie/
END:VEVENT
END:VCALENDAR