BEGIN:VCALENDAR
VERSION:2.0
PRODID:-//Prairie Hog Country - ECPv6.15.20//NONSGML v1.0//EN
CALSCALE:GREGORIAN
METHOD:PUBLISH
X-ORIGINAL-URL:https://www.prairiehogcountry.com
X-WR-CALDESC:Events for Prairie Hog Country
REFRESH-INTERVAL;VALUE=DURATION:PT1H
X-Robots-Tag:noindex
X-PUBLISHED-TTL:PT1H
BEGIN:VTIMEZONE
TZID:UTC
BEGIN:STANDARD
TZOFFSETFROM:+0000
TZOFFSETTO:+0000
TZNAME:UTC
DTSTART:20240101T000000
END:STANDARD
END:VTIMEZONE
BEGIN:VEVENT
DTSTART;TZID=UTC:20251209T083000
DTEND;TZID=UTC:20251209T170000
DTSTAMP:20260424T002723
CREATED:20250609T215242Z
LAST-MODIFIED:20250609T215242Z
UID:6309-1765269000-1765299600@www.prairiehogcountry.com
SUMMARY:Brandon Hog & Poultry Show
DESCRIPTION:
URL:https://www.prairiehogcountry.com/event/brandon-hog-poultry-show/
END:VEVENT
END:VCALENDAR