BEGIN:VCALENDAR
VERSION:2.0
PRODID:-//Prairie Hog Country - ECPv6.15.20//NONSGML v1.0//EN
CALSCALE:GREGORIAN
METHOD:PUBLISH
X-WR-CALNAME:Prairie Hog Country
X-ORIGINAL-URL:https://www.prairiehogcountry.com
X-WR-CALDESC:Events for Prairie Hog Country
REFRESH-INTERVAL;VALUE=DURATION:PT1H
X-Robots-Tag:noindex
X-PUBLISHED-TTL:PT1H
BEGIN:VTIMEZONE
TZID:UTC
BEGIN:STANDARD
TZOFFSETFROM:+0000
TZOFFSETTO:+0000
TZNAME:UTC
DTSTART:20240101T000000
END:STANDARD
END:VTIMEZONE
BEGIN:VEVENT
DTSTART;TZID=UTC:20251031T090000
DTEND;TZID=UTC:20251031T100000
DTSTAMP:20260424T014706
CREATED:20250929T194507Z
LAST-MODIFIED:20250929T194507Z
UID:6486-1761901200-1761904800@www.prairiehogcountry.com
SUMMARY:Alberta Pork Congress AGM (Virtual)
DESCRIPTION:
URL:https://www.prairiehogcountry.com/event/alberta-pork-congress-agm-virtual/
END:VEVENT
END:VCALENDAR