BEGIN:VCALENDAR
VERSION:2.0
PRODID:-//Prairie Hog Country - ECPv6.15.20//NONSGML v1.0//EN
CALSCALE:GREGORIAN
METHOD:PUBLISH
X-WR-CALNAME:Prairie Hog Country
X-ORIGINAL-URL:https://www.prairiehogcountry.com
X-WR-CALDESC:Events for Prairie Hog Country
REFRESH-INTERVAL;VALUE=DURATION:PT1H
X-Robots-Tag:noindex
X-PUBLISHED-TTL:PT1H
BEGIN:VTIMEZONE
TZID:UTC
BEGIN:STANDARD
TZOFFSETFROM:+0000
TZOFFSETTO:+0000
TZNAME:UTC
DTSTART:20240101T000000
END:STANDARD
END:VTIMEZONE
BEGIN:VEVENT
DTSTART;TZID=UTC:20250408T100000
DTEND;TZID=UTC:20250408T150000
DTSTAMP:20260424T112513
CREATED:20250201T011831Z
LAST-MODIFIED:20250201T011831Z
UID:5967-1744106400-1744124400@www.prairiehogcountry.com
SUMMARY:PSC Meeting - Lethbridge
DESCRIPTION:
URL:https://www.prairiehogcountry.com/event/psc-meeting-lethbridge/
END:VEVENT
END:VCALENDAR