BEGIN:VCALENDAR
VERSION:2.0
PRODID:-//Prairie Hog Country - ECPv6.15.20//NONSGML v1.0//EN
CALSCALE:GREGORIAN
METHOD:PUBLISH
X-ORIGINAL-URL:https://www.prairiehogcountry.com
X-WR-CALDESC:Events for Prairie Hog Country
REFRESH-INTERVAL;VALUE=DURATION:PT1H
X-Robots-Tag:noindex
X-PUBLISHED-TTL:PT1H
BEGIN:VTIMEZONE
TZID:UTC
BEGIN:STANDARD
TZOFFSETFROM:+0000
TZOFFSETTO:+0000
TZNAME:UTC
DTSTART:20240101T000000
END:STANDARD
END:VTIMEZONE
BEGIN:VEVENT
DTSTART;TZID=UTC:20250320T150000
DTEND;TZID=UTC:20250320T180000
DTSTAMP:20260424T130112
CREATED:20250201T013336Z
LAST-MODIFIED:20250201T013832Z
UID:5987-1742482800-1742493600@www.prairiehogcountry.com
SUMMARY:H@ms spring meeting - Oakville
DESCRIPTION:
URL:https://www.prairiehogcountry.com/event/hmsa-spring-meeting-oakville/
END:VEVENT
END:VCALENDAR