BEGIN:VCALENDAR
VERSION:2.0
PRODID:-//Prairie Hog Country - ECPv6.15.20//NONSGML v1.0//EN
CALSCALE:GREGORIAN
METHOD:PUBLISH
X-ORIGINAL-URL:https://www.prairiehogcountry.com
X-WR-CALDESC:Events for Prairie Hog Country
REFRESH-INTERVAL;VALUE=DURATION:PT1H
X-Robots-Tag:noindex
X-PUBLISHED-TTL:PT1H
BEGIN:VTIMEZONE
TZID:UTC
BEGIN:STANDARD
TZOFFSETFROM:+0000
TZOFFSETTO:+0000
TZNAME:UTC
DTSTART:20240101T000000
END:STANDARD
END:VTIMEZONE
BEGIN:VEVENT
DTSTART;TZID=UTC:20250312T120000
DTEND;TZID=UTC:20250312T150000
DTSTAMP:20260424T125410
CREATED:20250201T013201Z
LAST-MODIFIED:20250201T013201Z
UID:5983-1741780800-1741791600@www.prairiehogcountry.com
SUMMARY:H@ms Spring Meeting -  Swift Current
DESCRIPTION:
URL:https://www.prairiehogcountry.com/event/hms-spring-meeting-swift-current/
END:VEVENT
BEGIN:VEVENT
DTSTART;TZID=UTC:20250312T150000
DTEND;TZID=UTC:20250312T193000
DTSTAMP:20260424T125410
CREATED:20250201T012452Z
LAST-MODIFIED:20250201T012452Z
UID:5977-1741791600-1741807800@www.prairiehogcountry.com
SUMMARY:Alberta Pork Regional meeting - Red Deer
DESCRIPTION:
URL:https://www.prairiehogcountry.com/event/alberta-pork-regional-meeting-red-deer/
END:VEVENT
END:VCALENDAR