BEGIN:VCALENDAR
VERSION:2.0
PRODID:-//Prairie Hog Country - ECPv6.15.20//NONSGML v1.0//EN
CALSCALE:GREGORIAN
METHOD:PUBLISH
X-WR-CALNAME:Prairie Hog Country
X-ORIGINAL-URL:https://www.prairiehogcountry.com
X-WR-CALDESC:Events for Prairie Hog Country
REFRESH-INTERVAL;VALUE=DURATION:PT1H
X-Robots-Tag:noindex
X-PUBLISHED-TTL:PT1H
BEGIN:VTIMEZONE
TZID:UTC
BEGIN:STANDARD
TZOFFSETFROM:+0000
TZOFFSETTO:+0000
TZNAME:UTC
DTSTART:20230101T000000
END:STANDARD
END:VTIMEZONE
BEGIN:VEVENT
DTSTART;TZID=UTC:20241105T080000
DTEND;TZID=UTC:20241106T170000
DTSTAMP:20260424T184553
CREATED:20240604T181039Z
LAST-MODIFIED:20240604T181039Z
UID:5607-1730793600-1730912400@www.prairiehogcountry.com
SUMMARY:Saskatchewan Pork Industry Symposium
DESCRIPTION:
URL:https://www.prairiehogcountry.com/event/saskatchewan-pork-industry-symposium/
END:VEVENT
END:VCALENDAR