BEGIN:VCALENDAR
VERSION:2.0
PRODID:-//Prairie Hog Country - ECPv6.15.20//NONSGML v1.0//EN
CALSCALE:GREGORIAN
METHOD:PUBLISH
X-ORIGINAL-URL:https://www.prairiehogcountry.com
X-WR-CALDESC:Events for Prairie Hog Country
REFRESH-INTERVAL;VALUE=DURATION:PT1H
X-Robots-Tag:noindex
X-PUBLISHED-TTL:PT1H
BEGIN:VTIMEZONE
TZID:UTC
BEGIN:STANDARD
TZOFFSETFROM:+0000
TZOFFSETTO:+0000
TZNAME:UTC
DTSTART:20220101T000000
END:STANDARD
END:VTIMEZONE
BEGIN:VEVENT
DTSTART;TZID=UTC:20231107T083000
DTEND;TZID=UTC:20231108T163000
DTSTAMP:20260425T115608
CREATED:20221130T162056Z
LAST-MODIFIED:20221130T162056Z
UID:4727-1699345800-1699461000@www.prairiehogcountry.com
SUMMARY:Sask Pork Symposium
DESCRIPTION:
URL:https://www.prairiehogcountry.com/event/sask-pork-symposium-3/
END:VEVENT
END:VCALENDAR